BEGIN:VCALENDAR
VERSION:2.0
PRODID:Events Booking
BEGIN:VEVENT
UID:69e771ed19cc6
SUMMARY:Sustainable Digital Printing on Textiles
DESCRIPTION:
DTSTART:20250923T000000Z
DTSTAMP:20260421T124741Z
ORGANIZER;CN=ESMA academy-tex:MAILTO:pb@esma.com
END:VEVENT
END:VCALENDAR